BEGIN:VCALENDAR
VERSION:2.0
PRODID:-//Goldgrube//myauktion.com//AT
CALSCALE:GREGORIAN
BEGIN:VEVENT
DTSTART:20260504T171400
DTEND:20260504T171430
LOCATION:Gewerbepark 13, 8562 Mooskirchen
DTSTAMP:20260420T192225
SUMMARY:MyAuktion: Ablauf Artikel Nr. 957106 Multifit Katzenstreu Duft Cashmere 750g
URL;VALUE=URI:https://www.myauktion.com/versteigerung7650-position2441343-multifit-katzenstreu-duft-cashmere-750g.php
DESCRIPTION:MHD: 09/2030
UID:myauktion-7650-2441343
BEGIN:VALARM
ACTION:DISPLAY
DESCRIPTION:MHD: 09/2030
TRIGGER:-PT10M
END:VALARM
END:VEVENT
END:VCALENDAR