BEGIN:VCALENDAR
VERSION:2.0
PRODID:-//Goldgrube//myauktion.com//AT
CALSCALE:GREGORIAN
BEGIN:VEVENT
DTSTART:20260504T152600
DTEND:20260504T152630
LOCATION:Gewerbepark 13, 8562 Mooskirchen
DTSTAMP:20260420T214342
SUMMARY:MyAuktion: Ablauf Artikel Nr. 956854 Diverse Tetra Zubehör 1x75g 1x120Tabletten 1x75Tabletten 
URL;VALUE=URI:https://www.myauktion.com/versteigerung7650-position2441344-diverse-tetra-zubehoer-1x75g-1x120tabletten-1x75tabletten.php
DESCRIPTION:MHD 08.2028 
UID:myauktion-7650-2441344
BEGIN:VALARM
ACTION:DISPLAY
DESCRIPTION:MHD 08.2028 
TRIGGER:-PT10M
END:VALARM
END:VEVENT
END:VCALENDAR