BEGIN:VCALENDAR
VERSION:2.0
PRODID:-//Goldgrube//myauktion.com//AT
CALSCALE:GREGORIAN
BEGIN:VEVENT
DTSTART:20260504T171600
DTEND:20260504T171630
LOCATION:Gewerbepark 13, 8562 Mooskirchen
DTSTAMP:20260420T214336
SUMMARY:MyAuktion: Ablauf Artikel Nr. 957108 Gjyc Pet Aknepflege für Katzen 30ml
URL;VALUE=URI:https://www.myauktion.com/versteigerung7650-position2441347-gjyc-pet-aknepflege-fuer-katzen-30ml.php
DESCRIPTION:MHD: 22.10.2028
UID:myauktion-7650-2441347
BEGIN:VALARM
ACTION:DISPLAY
DESCRIPTION:MHD: 22.10.2028
TRIGGER:-PT10M
END:VALARM
END:VEVENT
END:VCALENDAR