BEGIN:VCALENDAR
VERSION:2.0
PRODID:-//Goldgrube//myauktion.com//AT
CALSCALE:GREGORIAN
BEGIN:VEVENT
DTSTART:20260504T131400
DTEND:20260504T131430
LOCATION:Gewerbepark 13, 8562 Mooskirchen
DTSTAMP:20260420T214342
SUMMARY:MyAuktion: Ablauf Artikel Nr. 955753 Fukumaru Gemischtes Katzenstreu 2,7kg 
URL;VALUE=URI:https://www.myauktion.com/versteigerung7650-position2441352-fukumaru-gemischtes-katzenstreu-27kg.php
DESCRIPTION:
UID:myauktion-7650-2441352
BEGIN:VALARM
ACTION:DISPLAY
DESCRIPTION:
TRIGGER:-PT10M
END:VALARM
END:VEVENT
END:VCALENDAR