BEGIN:VCALENDAR
VERSION:2.0
PRODID:-//Goldgrube//myauktion.com//AT
CALSCALE:GREGORIAN
BEGIN:VEVENT
DTSTART:20260504T132400
DTEND:20260504T132430
LOCATION:Gewerbepark 13, 8562 Mooskirchen
DTSTAMP:20260420T214339
SUMMARY:MyAuktion: Ablauf Artikel Nr. 955760 Silberkraft Floh Spray 500ml 
URL;VALUE=URI:https://www.myauktion.com/versteigerung7650-position2441355-silberkraft-floh-spray-500ml.php
DESCRIPTION:
UID:myauktion-7650-2441355
BEGIN:VALARM
ACTION:DISPLAY
DESCRIPTION:
TRIGGER:-PT10M
END:VALARM
END:VEVENT
END:VCALENDAR