BEGIN:VCALENDAR
VERSION:2.0
PRODID:-//Goldgrube//myauktion.com//AT
CALSCALE:GREGORIAN
BEGIN:VEVENT
DTSTART:20260504T151300
DTEND:20260504T151330
LOCATION:Gewerbepark 13, 8562 Mooskirchen
DTSTAMP:20260421T023000
SUMMARY:MyAuktion: Ablauf Artikel Nr. 956846 Reavet Augen Pflege Liquid 100ml 
URL;VALUE=URI:https://www.myauktion.com/versteigerung7650-position2441357-reavet-augen-pflege-liquid-100ml.php
DESCRIPTION:MHD 31.03.2027 
UID:myauktion-7650-2441357
BEGIN:VALARM
ACTION:DISPLAY
DESCRIPTION:MHD 31.03.2027 
TRIGGER:-PT10M
END:VALARM
END:VEVENT
END:VCALENDAR