BEGIN:VCALENDAR
VERSION:2.0
PRODID:-//Goldgrube//myauktion.com//AT
CALSCALE:GREGORIAN
BEGIN:VEVENT
DTSTART:20260504T171200
DTEND:20260504T171230
LOCATION:Gewerbepark 13, 8562 Mooskirchen
DTSTAMP:20260421T023000
SUMMARY:MyAuktion: Ablauf Artikel Nr. 957104 Trixie Katzenstreudeo je 750g
URL;VALUE=URI:https://www.myauktion.com/versteigerung7650-position2441362-trixie-katzenstreudeo-je-750g.php
DESCRIPTION:<div>MHD: 09/2030</div>
UID:myauktion-7650-2441362
BEGIN:VALARM
ACTION:DISPLAY
DESCRIPTION:<div>MHD: 09/2030</div>
TRIGGER:-PT10M
END:VALARM
END:VEVENT
END:VCALENDAR