BEGIN:VCALENDAR
VERSION:2.0
PRODID:-//Goldgrube//myauktion.com//AT
CALSCALE:GREGORIAN
BEGIN:VEVENT
DTSTART:20260504T111200
DTEND:20260504T111230
LOCATION:Gewerbepark 13, 8562 Mooskirchen
DTSTAMP:20260420T214340
SUMMARY:MyAuktion: Ablauf Artikel Nr. 956286 Terradomi Rasenkalk  24kg
URL;VALUE=URI:https://www.myauktion.com/versteigerung7651-position2441411-terradomi-rasenkalk-24kg.php
DESCRIPTION:
UID:myauktion-7651-2441411
BEGIN:VALARM
ACTION:DISPLAY
DESCRIPTION:
TRIGGER:-PT10M
END:VALARM
END:VEVENT
END:VCALENDAR