BEGIN:VCALENDAR
VERSION:2.0
PRODID:-//Goldgrube//myauktion.com//AT
CALSCALE:GREGORIAN
BEGIN:VEVENT
DTSTART:20260504T112200
DTEND:20260504T112230
LOCATION:Gewerbepark 13, 8562 Mooskirchen
DTSTAMP:20260420T203053
SUMMARY:MyAuktion: Ablauf Artikel Nr. 956292 Terrauno 3in1 Rasensahmen 1kg 
URL;VALUE=URI:https://www.myauktion.com/versteigerung7651-position2441417-terrauno-3in1-rasensahmen-1kg.php
DESCRIPTION:
UID:myauktion-7651-2441417
BEGIN:VALARM
ACTION:DISPLAY
DESCRIPTION:
TRIGGER:-PT10M
END:VALARM
END:VEVENT
END:VCALENDAR