BEGIN:VCALENDAR
VERSION:2.0
PRODID:-//Goldgrube//myauktion.com//AT
CALSCALE:GREGORIAN
BEGIN:VEVENT
DTSTART:20260504T113300
DTEND:20260504T113330
LOCATION:Gewerbepark 13, 8562 Mooskirchen
DTSTAMP:20260420T214343
SUMMARY:MyAuktion: Ablauf Artikel Nr. 956295 Neudorf  Aussaat&Kreuter Erde 10l
URL;VALUE=URI:https://www.myauktion.com/versteigerung7651-position2441420-neudorf-aussaat-38kreuter-erde-10l.php
DESCRIPTION:
UID:myauktion-7651-2441420
BEGIN:VALARM
ACTION:DISPLAY
DESCRIPTION:
TRIGGER:-PT10M
END:VALARM
END:VEVENT
END:VCALENDAR