BEGIN:VCALENDAR
VERSION:2.0
PRODID:-//Goldgrube//myauktion.com//AT
CALSCALE:GREGORIAN
BEGIN:VEVENT
DTSTART:20260504T114600
DTEND:20260504T114630
LOCATION:Gewerbepark 13, 8562 Mooskirchen
DTSTAMP:20260420T214346
SUMMARY:MyAuktion: Ablauf Artikel Nr. 956300 Terrauno Rasendünger Frühling-Sommer 5kg
URL;VALUE=URI:https://www.myauktion.com/versteigerung7651-position2441428-terrauno-rasenduenger-fruehling-sommer-5kg.php
DESCRIPTION:
UID:myauktion-7651-2441428
BEGIN:VALARM
ACTION:DISPLAY
DESCRIPTION:
TRIGGER:-PT10M
END:VALARM
END:VEVENT
END:VCALENDAR