BEGIN:VCALENDAR
VERSION:2.0
PRODID:-//Goldgrube//myauktion.com//AT
CALSCALE:GREGORIAN
BEGIN:VEVENT
DTSTART:20260504T114700
DTEND:20260504T114730
LOCATION:Gewerbepark 13, 8562 Mooskirchen
DTSTAMP:20260420T214345
SUMMARY:MyAuktion: Ablauf Artikel Nr. 956301 Anzucht und Kreurer Erde 5l
URL;VALUE=URI:https://www.myauktion.com/versteigerung7651-position2441429-anzucht-und-kreurer-erde-5l.php
DESCRIPTION:
UID:myauktion-7651-2441429
BEGIN:VALARM
ACTION:DISPLAY
DESCRIPTION:
TRIGGER:-PT10M
END:VALARM
END:VEVENT
END:VCALENDAR