BEGIN:VCALENDAR
VERSION:2.0
PRODID:-//Goldgrube//myauktion.com//AT
CALSCALE:GREGORIAN
BEGIN:VEVENT
DTSTART:20260504T115700
DTEND:20260504T115730
LOCATION:Gewerbepark 13, 8562 Mooskirchen
DTSTAMP:20260420T214347
SUMMARY:MyAuktion: Ablauf Artikel Nr. 956307 Sybasoil Cacti& Succulent 5l
URL;VALUE=URI:https://www.myauktion.com/versteigerung7651-position2441435-sybasoil-cacti-38-succulent-5l.php
DESCRIPTION:
UID:myauktion-7651-2441435
BEGIN:VALARM
ACTION:DISPLAY
DESCRIPTION:
TRIGGER:-PT10M
END:VALARM
END:VEVENT
END:VCALENDAR