BEGIN:VCALENDAR
VERSION:2.0
PRODID:-//Goldgrube//myauktion.com//AT
CALSCALE:GREGORIAN
BEGIN:VEVENT
DTSTART:20260504T111800
DTEND:20260504T111830
LOCATION:Gewerbepark 13, 8562 Mooskirchen
DTSTAMP:20260420T214343
SUMMARY:MyAuktion: Ablauf Artikel Nr. 956291 Teerauno Speed Rasendünger 5kg
URL;VALUE=URI:https://www.myauktion.com/versteigerung7651-position2441443-teerauno-speed-rasenduenger-5kg.php
DESCRIPTION:
UID:myauktion-7651-2441443
BEGIN:VALARM
ACTION:DISPLAY
DESCRIPTION:
TRIGGER:-PT10M
END:VALARM
END:VEVENT
END:VCALENDAR