BEGIN:VCALENDAR
VERSION:2.0
PRODID:-//Goldgrube//myauktion.com//AT
CALSCALE:GREGORIAN
BEGIN:VEVENT
DTSTART:20260504T113700
DTEND:20260504T113730
LOCATION:Gewerbepark 13, 8562 Mooskirchen
DTSTAMP:20260420T214344
SUMMARY:MyAuktion: Ablauf Artikel Nr. 956298 Terrauno Garten &Rasenkalk 15kg 
URL;VALUE=URI:https://www.myauktion.com/versteigerung7651-position2441459-terrauno-garten-38rasenkalk-15kg.php
DESCRIPTION:
UID:myauktion-7651-2441459
BEGIN:VALARM
ACTION:DISPLAY
DESCRIPTION:
TRIGGER:-PT10M
END:VALARM
END:VEVENT
END:VCALENDAR