BEGIN:VCALENDAR
VERSION:2.0
PRODID:-//Goldgrube//myauktion.com//AT
CALSCALE:GREGORIAN
BEGIN:VEVENT
DTSTART:20260504T115000
DTEND:20260504T115030
LOCATION:Gewerbepark 13, 8562 Mooskirchen
DTSTAMP:20260420T214340
SUMMARY:MyAuktion: Ablauf Artikel Nr. 956303 Terrauno Rasendünger Frühling-Sommer 20kg
URL;VALUE=URI:https://www.myauktion.com/versteigerung7651-position2441461-terrauno-rasenduenger-fruehling-sommer-20kg.php
DESCRIPTION:
UID:myauktion-7651-2441461
BEGIN:VALARM
ACTION:DISPLAY
DESCRIPTION:
TRIGGER:-PT10M
END:VALARM
END:VEVENT
END:VCALENDAR