BEGIN:VCALENDAR
VERSION:2.0
PRODID:-//Goldgrube//myauktion.com//AT
CALSCALE:GREGORIAN
BEGIN:VEVENT
DTSTART:20260504T115400
DTEND:20260504T115430
LOCATION:Gewerbepark 13, 8562 Mooskirchen
DTSTAMP:20260420T214342
SUMMARY:MyAuktion: Ablauf Artikel Nr. 956304 Terrauno Rasendünger Frühling-Sommer 10kg
URL;VALUE=URI:https://www.myauktion.com/versteigerung7651-position2441462-terrauno-rasenduenger-fruehling-sommer-10kg.php
DESCRIPTION:
UID:myauktion-7651-2441462
BEGIN:VALARM
ACTION:DISPLAY
DESCRIPTION:
TRIGGER:-PT10M
END:VALARM
END:VEVENT
END:VCALENDAR