BEGIN:VCALENDAR
VERSION:2.0
PRODID:-//Goldgrube//myauktion.com//AT
CALSCALE:GREGORIAN
BEGIN:VEVENT
DTSTART:20260507T090200
DTEND:20260507T090230
LOCATION:Gewerbepark 13, 8562 Mooskirchen
DTSTAMP:20260423T124240
SUMMARY:MyAuktion: Ablauf Artikel Nr. 837120 Hanro Top
URL;VALUE=URI:https://www.myauktion.com/versteigerung7655-position2442094-hanro-top.php
DESCRIPTION:Größe XL SCHWARZ
UID:myauktion-7655-2442094
BEGIN:VALARM
ACTION:DISPLAY
DESCRIPTION:Größe XL SCHWARZ
TRIGGER:-PT10M
END:VALARM
END:VEVENT
END:VCALENDAR