BEGIN:VCALENDAR
VERSION:2.0
PRODID:-//Goldgrube//myauktion.com//AT
CALSCALE:GREGORIAN
BEGIN:VEVENT
DTSTART:20260507T090100
DTEND:20260507T090130
LOCATION:Gewerbepark 13, 8562 Mooskirchen
DTSTAMP:20260423T124242
SUMMARY:MyAuktion: Ablauf Artikel Nr. 837119 Marco Polo Feinstrick Top 
URL;VALUE=URI:https://www.myauktion.com/versteigerung7655-position2442095-marco-polo-feinstrick-top.php
DESCRIPTION:Größe XXS
UID:myauktion-7655-2442095
BEGIN:VALARM
ACTION:DISPLAY
DESCRIPTION:Größe XXS
TRIGGER:-PT10M
END:VALARM
END:VEVENT
END:VCALENDAR