BEGIN:VCALENDAR
VERSION:2.0
PRODID:-//Goldgrube//myauktion.com//AT
CALSCALE:GREGORIAN
BEGIN:VEVENT
DTSTART:20260507T090500
DTEND:20260507T090530
LOCATION:Gewerbepark 13, 8562 Mooskirchen
DTSTAMP:20260423T124241
SUMMARY:MyAuktion: Ablauf Artikel Nr. 837123 Kaffe Jeans Kleid 
URL;VALUE=URI:https://www.myauktion.com/versteigerung7655-position2442098-kaffe-jeans-kleid.php
DESCRIPTION:Größe 50
UID:myauktion-7655-2442098
BEGIN:VALARM
ACTION:DISPLAY
DESCRIPTION:Größe 50
TRIGGER:-PT10M
END:VALARM
END:VEVENT
END:VCALENDAR