BEGIN:VCALENDAR
VERSION:2.0
PRODID:-//Goldgrube//myauktion.com//AT
CALSCALE:GREGORIAN
BEGIN:VEVENT
DTSTART:20260507T090600
DTEND:20260507T090630
LOCATION:Gewerbepark 13, 8562 Mooskirchen
DTSTAMP:20260423T124242
SUMMARY:MyAuktion: Ablauf Artikel Nr. 837124 Collection L Bluse 1/1
URL;VALUE=URI:https://www.myauktion.com/versteigerung7655-position2442099-collection-l-bluse-1-1.php
DESCRIPTION:Größe 42
UID:myauktion-7655-2442099
BEGIN:VALARM
ACTION:DISPLAY
DESCRIPTION:Größe 42
TRIGGER:-PT10M
END:VALARM
END:VEVENT
END:VCALENDAR