BEGIN:VCALENDAR
VERSION:2.0
PRODID:-//Goldgrube//myauktion.com//AT
CALSCALE:GREGORIAN
BEGIN:VEVENT
DTSTART:20260507T090800
DTEND:20260507T090830
LOCATION:Gewerbepark 13, 8562 Mooskirchen
DTSTAMP:20260423T125427
SUMMARY:MyAuktion: Ablauf Artikel Nr. 837126 Comma Bluse
URL;VALUE=URI:https://www.myauktion.com/versteigerung7655-position2442101-comma-bluse.php
DESCRIPTION:Größe 42
UID:myauktion-7655-2442101
BEGIN:VALARM
ACTION:DISPLAY
DESCRIPTION:Größe 42
TRIGGER:-PT10M
END:VALARM
END:VEVENT
END:VCALENDAR