BEGIN:VCALENDAR
VERSION:2.0
PRODID:-//Goldgrube//myauktion.com//AT
CALSCALE:GREGORIAN
BEGIN:VEVENT
DTSTART:20260507T090900
DTEND:20260507T090930
LOCATION:Gewerbepark 13, 8562 Mooskirchen
DTSTAMP:20260423T124235
SUMMARY:MyAuktion: Ablauf Artikel Nr. 837127 Bershka Minikleid 
URL;VALUE=URI:https://www.myauktion.com/versteigerung7655-position2442102-bershka-minikleid.php
DESCRIPTION:Größe L
UID:myauktion-7655-2442102
BEGIN:VALARM
ACTION:DISPLAY
DESCRIPTION:Größe L
TRIGGER:-PT10M
END:VALARM
END:VEVENT
END:VCALENDAR