BEGIN:VCALENDAR
VERSION:2.0
PRODID:-//Goldgrube//myauktion.com//AT
CALSCALE:GREGORIAN
BEGIN:VEVENT
DTSTART:20260507T091100
DTEND:20260507T091130
LOCATION:Gewerbepark 13, 8562 Mooskirchen
DTSTAMP:20260423T124233
SUMMARY:MyAuktion: Ablauf Artikel Nr. 837129 Caretex underwear Inkontinenz
URL;VALUE=URI:https://www.myauktion.com/versteigerung7655-position2442104-caretex-underwear-inkontinenz.php
DESCRIPTION:Größe M
UID:myauktion-7655-2442104
BEGIN:VALARM
ACTION:DISPLAY
DESCRIPTION:Größe M
TRIGGER:-PT10M
END:VALARM
END:VEVENT
END:VCALENDAR