BEGIN:VCALENDAR
VERSION:2.0
PRODID:-//Goldgrube//myauktion.com//AT
CALSCALE:GREGORIAN
BEGIN:VEVENT
DTSTART:20260507T091600
DTEND:20260507T091630
LOCATION:Gewerbepark 13, 8562 Mooskirchen
DTSTAMP:20260423T124233
SUMMARY:MyAuktion: Ablauf Artikel Nr. 837133 Hosenanzug 
URL;VALUE=URI:https://www.myauktion.com/versteigerung7655-position2442109-hosenanzug.php
DESCRIPTION:Größe 46
UID:myauktion-7655-2442109
BEGIN:VALARM
ACTION:DISPLAY
DESCRIPTION:Größe 46
TRIGGER:-PT10M
END:VALARM
END:VEVENT
END:VCALENDAR