BEGIN:VCALENDAR
VERSION:2.0
PRODID:-//Goldgrube//myauktion.com//AT
CALSCALE:GREGORIAN
BEGIN:VEVENT
DTSTART:20260507T091800
DTEND:20260507T091830
LOCATION:Gewerbepark 13, 8562 Mooskirchen
DTSTAMP:20260423T124234
SUMMARY:MyAuktion: Ablauf Artikel Nr. 837135 Only Jeans 
URL;VALUE=URI:https://www.myauktion.com/versteigerung7655-position2442111-only-jeans.php
DESCRIPTION:Größe Sx30
UID:myauktion-7655-2442111
BEGIN:VALARM
ACTION:DISPLAY
DESCRIPTION:Größe Sx30
TRIGGER:-PT10M
END:VALARM
END:VEVENT
END:VCALENDAR