BEGIN:VCALENDAR
VERSION:2.0
PRODID:-//Goldgrube//myauktion.com//AT
CALSCALE:GREGORIAN
BEGIN:VEVENT
DTSTART:20260507T092000
DTEND:20260507T092030
LOCATION:Gewerbepark 13, 8562 Mooskirchen
DTSTAMP:20260423T124234
SUMMARY:MyAuktion: Ablauf Artikel Nr. 837137 Triumph Triaction BH 
URL;VALUE=URI:https://www.myauktion.com/versteigerung7655-position2442113-triumph-triaction-bh.php
DESCRIPTION:Größe 80E
UID:myauktion-7655-2442113
BEGIN:VALARM
ACTION:DISPLAY
DESCRIPTION:Größe 80E
TRIGGER:-PT10M
END:VALARM
END:VEVENT
END:VCALENDAR