BEGIN:VCALENDAR
VERSION:2.0
PRODID:-//Goldgrube//myauktion.com//AT
CALSCALE:GREGORIAN
BEGIN:VEVENT
DTSTART:20260507T092100
DTEND:20260507T092130
LOCATION:Gewerbepark 13, 8562 Mooskirchen
DTSTAMP:20260423T124232
SUMMARY:MyAuktion: Ablauf Artikel Nr. 837138 Vaude  skomer hiking Jacke
URL;VALUE=URI:https://www.myauktion.com/versteigerung7655-position2442114-vaude-skomer-hiking-jacke.php
DESCRIPTION:Größe 44
UID:myauktion-7655-2442114
BEGIN:VALARM
ACTION:DISPLAY
DESCRIPTION:Größe 44
TRIGGER:-PT10M
END:VALARM
END:VEVENT
END:VCALENDAR