BEGIN:VCALENDAR
VERSION:2.0
PRODID:-//Goldgrube//myauktion.com//AT
CALSCALE:GREGORIAN
BEGIN:VEVENT
DTSTART:20260507T092400
DTEND:20260507T092430
LOCATION:Gewerbepark 13, 8562 Mooskirchen
DTSTAMP:20260423T124233
SUMMARY:MyAuktion: Ablauf Artikel Nr. 837141 Arket  Leinen Bluse 
URL;VALUE=URI:https://www.myauktion.com/versteigerung7655-position2442117-arket-leinen-bluse.php
DESCRIPTION:Größe S oversized 
UID:myauktion-7655-2442117
BEGIN:VALARM
ACTION:DISPLAY
DESCRIPTION:Größe S oversized 
TRIGGER:-PT10M
END:VALARM
END:VEVENT
END:VCALENDAR