BEGIN:VCALENDAR
VERSION:2.0
PRODID:-//Goldgrube//myauktion.com//AT
CALSCALE:GREGORIAN
BEGIN:VEVENT
DTSTART:20260507T092500
DTEND:20260507T092530
LOCATION:Gewerbepark 13, 8562 Mooskirchen
DTSTAMP:20260423T124232
SUMMARY:MyAuktion: Ablauf Artikel Nr. 837142 Shirt 1/2
URL;VALUE=URI:https://www.myauktion.com/versteigerung7655-position2442118-shirt-1-2.php
DESCRIPTION:Größe 44
UID:myauktion-7655-2442118
BEGIN:VALARM
ACTION:DISPLAY
DESCRIPTION:Größe 44
TRIGGER:-PT10M
END:VALARM
END:VEVENT
END:VCALENDAR