BEGIN:VCALENDAR
VERSION:2.0
PRODID:-//Goldgrube//myauktion.com//AT
CALSCALE:GREGORIAN
BEGIN:VEVENT
DTSTART:20260507T092900
DTEND:20260507T092930
LOCATION:Gewerbepark 13, 8562 Mooskirchen
DTSTAMP:20260423T124232
SUMMARY:MyAuktion: Ablauf Artikel Nr. 837146 Sommerkleid ohne Etikett 
URL;VALUE=URI:https://www.myauktion.com/versteigerung7655-position2442122-sommerkleid-ohne-etikett.php
DESCRIPTION:Größe nicht ersichtlich CA XL
UID:myauktion-7655-2442122
BEGIN:VALARM
ACTION:DISPLAY
DESCRIPTION:Größe nicht ersichtlich CA XL
TRIGGER:-PT10M
END:VALARM
END:VEVENT
END:VCALENDAR