BEGIN:VCALENDAR
VERSION:2.0
PRODID:-//Goldgrube//myauktion.com//AT
CALSCALE:GREGORIAN
BEGIN:VEVENT
DTSTART:20260507T093000
DTEND:20260507T093030
LOCATION:Gewerbepark 13, 8562 Mooskirchen
DTSTAMP:20260423T124231
SUMMARY:MyAuktion: Ablauf Artikel Nr. 837147 Lascana Shirt
URL;VALUE=URI:https://www.myauktion.com/versteigerung7655-position2442123-lascana-shirt.php
DESCRIPTION:Größe 36
UID:myauktion-7655-2442123
BEGIN:VALARM
ACTION:DISPLAY
DESCRIPTION:Größe 36
TRIGGER:-PT10M
END:VALARM
END:VEVENT
END:VCALENDAR