BEGIN:VCALENDAR
VERSION:2.0
PRODID:-//Goldgrube//myauktion.com//AT
CALSCALE:GREGORIAN
BEGIN:VEVENT
DTSTART:20260507T093200
DTEND:20260507T093230
LOCATION:Gewerbepark 13, 8562 Mooskirchen
DTSTAMP:20260423T124231
SUMMARY:MyAuktion: Ablauf Artikel Nr. 837149 Lascana Hose Lederoptik 
URL;VALUE=URI:https://www.myauktion.com/versteigerung7655-position2442125-lascana-hose-lederoptik.php
DESCRIPTION:Größe 40
UID:myauktion-7655-2442125
BEGIN:VALARM
ACTION:DISPLAY
DESCRIPTION:Größe 40
TRIGGER:-PT10M
END:VALARM
END:VEVENT
END:VCALENDAR