BEGIN:VCALENDAR
VERSION:2.0
PRODID:-//Goldgrube//myauktion.com//AT
CALSCALE:GREGORIAN
BEGIN:VEVENT
DTSTART:20260507T093300
DTEND:20260507T093330
LOCATION:Gewerbepark 13, 8562 Mooskirchen
DTSTAMP:20260423T124233
SUMMARY:MyAuktion: Ablauf Artikel Nr. 837150 Under Armour Shorts
URL;VALUE=URI:https://www.myauktion.com/versteigerung7655-position2442126-under-armour-shorts.php
DESCRIPTION:Größe L
UID:myauktion-7655-2442126
BEGIN:VALARM
ACTION:DISPLAY
DESCRIPTION:Größe L
TRIGGER:-PT10M
END:VALARM
END:VEVENT
END:VCALENDAR