BEGIN:VCALENDAR
VERSION:2.0
PRODID:-//Goldgrube//myauktion.com//AT
CALSCALE:GREGORIAN
BEGIN:VEVENT
DTSTART:20260507T093500
DTEND:20260507T093530
LOCATION:Gewerbepark 13, 8562 Mooskirchen
DTSTAMP:20260423T124234
SUMMARY:MyAuktion: Ablauf Artikel Nr. 837152 Calvin Klein Bra
URL;VALUE=URI:https://www.myauktion.com/versteigerung7655-position2442128-calvin-klein-bra.php
DESCRIPTION:Größe XS
UID:myauktion-7655-2442128
BEGIN:VALARM
ACTION:DISPLAY
DESCRIPTION:Größe XS
TRIGGER:-PT10M
END:VALARM
END:VEVENT
END:VCALENDAR