BEGIN:VCALENDAR
VERSION:2.0
PRODID:-//Goldgrube//myauktion.com//AT
CALSCALE:GREGORIAN
BEGIN:VEVENT
DTSTART:20260507T093600
DTEND:20260507T093630
LOCATION:Gewerbepark 13, 8562 Mooskirchen
DTSTAMP:20260423T124237
SUMMARY:MyAuktion: Ablauf Artikel Nr. 837153 Nakd Kleid 
URL;VALUE=URI:https://www.myauktion.com/versteigerung7655-position2442129-nakd-kleid.php
DESCRIPTION:Größe 34
UID:myauktion-7655-2442129
BEGIN:VALARM
ACTION:DISPLAY
DESCRIPTION:Größe 34
TRIGGER:-PT10M
END:VALARM
END:VEVENT
END:VCALENDAR