BEGIN:VCALENDAR
VERSION:2.0
PRODID:-//Goldgrube//myauktion.com//AT
CALSCALE:GREGORIAN
BEGIN:VEVENT
DTSTART:20260507T093700
DTEND:20260507T093730
LOCATION:Gewerbepark 13, 8562 Mooskirchen
DTSTAMP:20260423T124237
SUMMARY:MyAuktion: Ablauf Artikel Nr. 837154 Samoon Cardigan 
URL;VALUE=URI:https://www.myauktion.com/versteigerung7655-position2442130-samoon-cardigan.php
DESCRIPTION:Größe 44
UID:myauktion-7655-2442130
BEGIN:VALARM
ACTION:DISPLAY
DESCRIPTION:Größe 44
TRIGGER:-PT10M
END:VALARM
END:VEVENT
END:VCALENDAR