BEGIN:VCALENDAR
VERSION:2.0
PRODID:-//Goldgrube//myauktion.com//AT
CALSCALE:GREGORIAN
BEGIN:VEVENT
DTSTART:20260507T093900
DTEND:20260507T093930
LOCATION:Gewerbepark 13, 8562 Mooskirchen
DTSTAMP:20260423T124232
SUMMARY:MyAuktion: Ablauf Artikel Nr. 837156 Cupshe Badeanzug 
URL;VALUE=URI:https://www.myauktion.com/versteigerung7655-position2442132-cupshe-badeanzug.php
DESCRIPTION:Größe M
UID:myauktion-7655-2442132
BEGIN:VALARM
ACTION:DISPLAY
DESCRIPTION:Größe M
TRIGGER:-PT10M
END:VALARM
END:VEVENT
END:VCALENDAR