BEGIN:VCALENDAR
VERSION:2.0
PRODID:-//Goldgrube//myauktion.com//AT
CALSCALE:GREGORIAN
BEGIN:VEVENT
DTSTART:20260507T094000
DTEND:20260507T094030
LOCATION:Gewerbepark 13, 8562 Mooskirchen
DTSTAMP:20260423T124234
SUMMARY:MyAuktion: Ablauf Artikel Nr. 837157 Bershka Kniehose
URL;VALUE=URI:https://www.myauktion.com/versteigerung7655-position2442133-bershka-kniehose.php
DESCRIPTION:Größe XL
UID:myauktion-7655-2442133
BEGIN:VALARM
ACTION:DISPLAY
DESCRIPTION:Größe XL
TRIGGER:-PT10M
END:VALARM
END:VEVENT
END:VCALENDAR