BEGIN:VCALENDAR
VERSION:2.0
PRODID:-//Goldgrube//myauktion.com//AT
CALSCALE:GREGORIAN
BEGIN:VEVENT
DTSTART:20260507T094300
DTEND:20260507T094330
LOCATION:Gewerbepark 13, 8562 Mooskirchen
DTSTAMP:20260423T124240
SUMMARY:MyAuktion: Ablauf Artikel Nr. 837160 Zara Schlupfhose ohne Etikett 
URL;VALUE=URI:https://www.myauktion.com/versteigerung7655-position2442136-zara-schlupfhose-ohne-etikett.php
DESCRIPTION:Größe S
UID:myauktion-7655-2442136
BEGIN:VALARM
ACTION:DISPLAY
DESCRIPTION:Größe S
TRIGGER:-PT10M
END:VALARM
END:VEVENT
END:VCALENDAR