BEGIN:VCALENDAR
VERSION:2.0
PRODID:-//Goldgrube//myauktion.com//AT
CALSCALE:GREGORIAN
BEGIN:VEVENT
DTSTART:20260507T094500
DTEND:20260507T094530
LOCATION:Gewerbepark 13, 8562 Mooskirchen
DTSTAMP:20260423T124234
SUMMARY:MyAuktion: Ablauf Artikel Nr. 837162 Mango Oberteil 
URL;VALUE=URI:https://www.myauktion.com/versteigerung7655-position2442138-mango-oberteil.php
DESCRIPTION:Größe S
UID:myauktion-7655-2442138
BEGIN:VALARM
ACTION:DISPLAY
DESCRIPTION:Größe S
TRIGGER:-PT10M
END:VALARM
END:VEVENT
END:VCALENDAR