BEGIN:VCALENDAR
VERSION:2.0
PRODID:-//Goldgrube//myauktion.com//AT
CALSCALE:GREGORIAN
BEGIN:VEVENT
DTSTART:20260507T094600
DTEND:20260507T094630
LOCATION:Gewerbepark 13, 8562 Mooskirchen
DTSTAMP:20260423T124231
SUMMARY:MyAuktion: Ablauf Artikel Nr. 837163 Hollister Skirt
URL;VALUE=URI:https://www.myauktion.com/versteigerung7655-position2442139-hollister-skirt.php
DESCRIPTION:Größe S
UID:myauktion-7655-2442139
BEGIN:VALARM
ACTION:DISPLAY
DESCRIPTION:Größe S
TRIGGER:-PT10M
END:VALARM
END:VEVENT
END:VCALENDAR