BEGIN:VCALENDAR
VERSION:2.0
PRODID:-//Goldgrube//myauktion.com//AT
CALSCALE:GREGORIAN
BEGIN:VEVENT
DTSTART:20260507T095900
DTEND:20260507T095930
LOCATION:Gewerbepark 13, 8562 Mooskirchen
DTSTAMP:20260423T124237
SUMMARY:MyAuktion: Ablauf Artikel Nr. 837174 Best mountain Top 
URL;VALUE=URI:https://www.myauktion.com/versteigerung7655-position2442152-best-mountain-top.php
DESCRIPTION:Größe S
UID:myauktion-7655-2442152
BEGIN:VALARM
ACTION:DISPLAY
DESCRIPTION:Größe S
TRIGGER:-PT10M
END:VALARM
END:VEVENT
END:VCALENDAR