BEGIN:VCALENDAR
VERSION:2.0
PRODID:-//Goldgrube//myauktion.com//AT
CALSCALE:GREGORIAN
BEGIN:VEVENT
DTSTART:20260507T100800
DTEND:20260507T100830
LOCATION:Gewerbepark 13, 8562 Mooskirchen
DTSTAMP:20260423T121941
SUMMARY:MyAuktion: Ablauf Artikel Nr. 837183 JACKE groß geschnitten 
URL;VALUE=URI:https://www.myauktion.com/versteigerung7655-position2442161-jacke-gross-geschnitten.php
DESCRIPTION:Größe L 
UID:myauktion-7655-2442161
BEGIN:VALARM
ACTION:DISPLAY
DESCRIPTION:Größe L 
TRIGGER:-PT10M
END:VALARM
END:VEVENT
END:VCALENDAR