BEGIN:VCALENDAR
VERSION:2.0
PRODID:-//Goldgrube//myauktion.com//AT
CALSCALE:GREGORIAN
BEGIN:VEVENT
DTSTART:20260507T101200
DTEND:20260507T101230
LOCATION:Gewerbepark 13, 8562 Mooskirchen
DTSTAMP:20260423T153047
SUMMARY:MyAuktion: Ablauf Artikel Nr. 837187 Abercrombie and Fitch Hose 
URL;VALUE=URI:https://www.myauktion.com/versteigerung7655-position2442165-abercrombie-and-fitch-hose.php
DESCRIPTION:Größe 27x30
UID:myauktion-7655-2442165
BEGIN:VALARM
ACTION:DISPLAY
DESCRIPTION:Größe 27x30
TRIGGER:-PT10M
END:VALARM
END:VEVENT
END:VCALENDAR