BEGIN:VCALENDAR
VERSION:2.0
PRODID:-//Goldgrube//myauktion.com//AT
CALSCALE:GREGORIAN
BEGIN:VEVENT
DTSTART:20260507T101300
DTEND:20260507T101330
LOCATION:Gewerbepark 13, 8562 Mooskirchen
DTSTAMP:20260423T165940
SUMMARY:MyAuktion: Ablauf Artikel Nr. 837188 Quebec 520o Jacke
URL;VALUE=URI:https://www.myauktion.com/versteigerung7655-position2442166-quebec-520o-jacke.php
DESCRIPTION:Größe M
UID:myauktion-7655-2442166
BEGIN:VALARM
ACTION:DISPLAY
DESCRIPTION:Größe M
TRIGGER:-PT10M
END:VALARM
END:VEVENT
END:VCALENDAR