BEGIN:VCALENDAR
VERSION:2.0
PRODID:-//Goldgrube//myauktion.com//AT
CALSCALE:GREGORIAN
BEGIN:VEVENT
DTSTART:20260507T101500
DTEND:20260507T101530
LOCATION:Gewerbepark 13, 8562 Mooskirchen
DTSTAMP:20260423T165936
SUMMARY:MyAuktion: Ablauf Artikel Nr. 837190 Guess Strickkleid 
URL;VALUE=URI:https://www.myauktion.com/versteigerung7655-position2442168-guess-strickkleid.php
DESCRIPTION:Größe S
UID:myauktion-7655-2442168
BEGIN:VALARM
ACTION:DISPLAY
DESCRIPTION:Größe S
TRIGGER:-PT10M
END:VALARM
END:VEVENT
END:VCALENDAR