BEGIN:VCALENDAR
VERSION:2.0
PRODID:-//Goldgrube//myauktion.com//AT
CALSCALE:GREGORIAN
BEGIN:VEVENT
DTSTART:20260507T101800
DTEND:20260507T101830
LOCATION:Gewerbepark 13, 8562 Mooskirchen
DTSTAMP:20260423T165938
SUMMARY:MyAuktion: Ablauf Artikel Nr. 837193 Halara Jeans 
URL;VALUE=URI:https://www.myauktion.com/versteigerung7655-position2442171-halara-jeans.php
DESCRIPTION:Größe M regular
UID:myauktion-7655-2442171
BEGIN:VALARM
ACTION:DISPLAY
DESCRIPTION:Größe M regular
TRIGGER:-PT10M
END:VALARM
END:VEVENT
END:VCALENDAR