BEGIN:VCALENDAR
VERSION:2.0
PRODID:-//Goldgrube//myauktion.com//AT
CALSCALE:GREGORIAN
BEGIN:VEVENT
DTSTART:20260507T101900
DTEND:20260507T101930
LOCATION:Gewerbepark 13, 8562 Mooskirchen
DTSTAMP:20260423T165937
SUMMARY:MyAuktion: Ablauf Artikel Nr. 837194 Pull&Bear Jogger 
URL;VALUE=URI:https://www.myauktion.com/versteigerung7655-position2442172-pull-38bear-jogger.php
DESCRIPTION:Größe M
UID:myauktion-7655-2442172
BEGIN:VALARM
ACTION:DISPLAY
DESCRIPTION:Größe M
TRIGGER:-PT10M
END:VALARM
END:VEVENT
END:VCALENDAR