BEGIN:VCALENDAR
VERSION:2.0
PRODID:-//Goldgrube//myauktion.com//AT
CALSCALE:GREGORIAN
BEGIN:VEVENT
DTSTART:20260507T102200
DTEND:20260507T102230
LOCATION:Gewerbepark 13, 8562 Mooskirchen
DTSTAMP:20260423T165938
SUMMARY:MyAuktion: Ablauf Artikel Nr. 837197 Magic V Bra
URL;VALUE=URI:https://www.myauktion.com/versteigerung7655-position2442175-magic-v-bra.php
DESCRIPTION:Größe 75D
UID:myauktion-7655-2442175
BEGIN:VALARM
ACTION:DISPLAY
DESCRIPTION:Größe 75D
TRIGGER:-PT10M
END:VALARM
END:VEVENT
END:VCALENDAR